BEGIN:VCALENDAR
VERSION:2.0
PRODID:icalendar-ruby
CALSCALE:GREGORIAN
METHOD:PUBLISH
BEGIN:VEVENT
DTSTAMP:20260424T220618Z
UID:5-842412@holyspiritwaco.com
DTSTART:20261101T163000Z
DTEND:20261101T173000Z
CLASS:PUBLIC
CREATED:20260424T160206
DESCRIPTION:Sunday Worship
LAST-MODIFIED:20260424T160206
LOCATION:
SUMMARY:Sunday Worship
URL;VALUE=URI:https://www.holyspiritwaco.com/events/sunday-worship/2026-11-
 01
END:VEVENT
END:VCALENDAR
