BEGIN:VCALENDAR
VERSION:2.0
PRODID:icalendar-ruby
CALSCALE:GREGORIAN
METHOD:PUBLISH
BEGIN:VEVENT
DTSTAMP:20260423T045953Z
UID:15-834753@holyspiritwaco.com
DTSTART:20261015T130000Z
DTEND:20261015T140000Z
CLASS:PUBLIC
CREATED:20260422T220541
DESCRIPTION:
LAST-MODIFIED:20260422T220541
LOCATION:Parish Hall
SUMMARY:Men's Fellowship
URL;VALUE=URI:https://www.holyspiritwaco.com/events/mens-fellowship/2026-10
 -15
ATTACH;FILENAME=bible_crosses-27.jpg;FMTTYPE=image/jpeg:https://dq5pwpg1q8r
 u0.cloudfront.net/2025/04/11/15/40/39/ea29e9d0-f723-456b-ae88-39b9ca84073f
 /bible_crosses-27.jpg
END:VEVENT
END:VCALENDAR
