BEGIN:VCALENDAR
VERSION:2.0
PRODID:icalendar-ruby
CALSCALE:GREGORIAN
METHOD:PUBLISH
BEGIN:VEVENT
DTSTAMP:20260423T221924Z
UID:12-837750@holyspiritwaco.com
DTSTART:20261023T151500Z
DTEND:20261023T170000Z
CLASS:PUBLIC
CREATED:20260423T161951
DESCRIPTION:
LAST-MODIFIED:20260423T161951
LOCATION:Parish Hall
SUMMARY:Knitters
URL;VALUE=URI:https://www.holyspiritwaco.com/events/knitters/2026-10-23
ATTACH;FILENAME=daMK.jpg;FMTTYPE=image/jpeg:https://dq5pwpg1q8ru0.cloudfron
 t.net/2025/04/11/15/33/35/cac7911d-a3a4-4336-8cc0-0019fa7fb203/daMK.jpg
END:VEVENT
END:VCALENDAR
