BEGIN:VCALENDAR
VERSION:2.0
PRODID:icalendar-ruby
CALSCALE:GREGORIAN
METHOD:PUBLISH
BEGIN:VEVENT
DTSTAMP:20260426T021643Z
UID:33-849056@holyspiritwaco.com
DTSTART:20261102T120000Z
DTEND:20261102T130000Z
CLASS:PUBLIC
CREATED:20260425T205020
DESCRIPTION:Alcoholics Anonymous
LAST-MODIFIED:20260425T205020
LOCATION:Holy Spirit Episcopal Church
SUMMARY:Alcoholics Anonymous
URL;VALUE=URI:https://www.holyspiritwaco.com/events/alcoholics-anonymous/20
 26-11-02
ATTACH;FILENAME=Alcoholics-Anonymous-Logo.jpg;FMTTYPE=image/jpeg:https://dq
 5pwpg1q8ru0.cloudfront.net/2025/05/23/15/13/21/8fe94a8a-db5a-487a-b869-675
 9d7a8b1a9/Alcoholics-Anonymous-Logo.jpg
END:VEVENT
END:VCALENDAR
